BEGIN:VCALENDAR
VERSION:2.0
PRODID:-//Bates School - ECPv6.15.18//NONSGML v1.0//EN
CALSCALE:GREGORIAN
METHOD:PUBLISH
X-WR-CALNAME:Bates School
X-ORIGINAL-URL:https://spsbates.salemk12.org
X-WR-CALDESC:Events for Bates School
REFRESH-INTERVAL;VALUE=DURATION:PT1H
X-Robots-Tag:noindex
X-PUBLISHED-TTL:PT1H
BEGIN:VTIMEZONE
TZID:America/New_York
BEGIN:DAYLIGHT
TZOFFSETFROM:-0500
TZOFFSETTO:-0400
TZNAME:EDT
DTSTART:20220313T070000
END:DAYLIGHT
BEGIN:STANDARD
TZOFFSETFROM:-0400
TZOFFSETTO:-0500
TZNAME:EST
DTSTART:20221106T060000
END:STANDARD
BEGIN:DAYLIGHT
TZOFFSETFROM:-0500
TZOFFSETTO:-0400
TZNAME:EDT
DTSTART:20230312T070000
END:DAYLIGHT
BEGIN:STANDARD
TZOFFSETFROM:-0400
TZOFFSETTO:-0500
TZNAME:EST
DTSTART:20231105T060000
END:STANDARD
BEGIN:DAYLIGHT
TZOFFSETFROM:-0500
TZOFFSETTO:-0400
TZNAME:EDT
DTSTART:20240310T070000
END:DAYLIGHT
BEGIN:STANDARD
TZOFFSETFROM:-0400
TZOFFSETTO:-0500
TZNAME:EST
DTSTART:20241103T060000
END:STANDARD
END:VTIMEZONE
BEGIN:VEVENT
DTSTART;VALUE=DATE:20230522
DTEND;VALUE=DATE:20230524
DTSTAMP:20260421T094906
CREATED:20230124T202610Z
LAST-MODIFIED:20230523T224012Z
UID:3130-1684713600-1684886399@spsbates.salemk12.org
SUMMARY:MCAS - Grade 5 Science
DESCRIPTION:
URL:https://spsbates.salemk12.org/event/mcas-grade-5-science/
CATEGORIES:Bates School
END:VEVENT
BEGIN:VEVENT
DTSTART;TZID=America/New_York:20230520T103000
DTEND;TZID=America/New_York:20230520T160000
DTSTAMP:20260421T094906
CREATED:20230501T185614Z
LAST-MODIFIED:20230520T195612Z
UID:3703-1684578600-1684598400@spsbates.salemk12.org
SUMMARY:SEE ME: A Celebration of SPS Students at the PEM
DESCRIPTION:Join the community for a celebration of Salem students at the Peabody Essex Museum from May 19-22!\n“SEE ME” is an initiative through the Salem Public Schools Office of Public Relations that captures the district’s core values of belonging\, equity\, and opportunity through the expression of student voices. This public exhibition at a world-renowned museum aims to share elements of how the young people of Salem see their history and how their cultures have shaped them. It explores how they see themselves walking through the world in the present and how they can influence the future.\n“SEE ME” is a multiday pop-up exhibition featuring artwork from Salem students in grades K-12. This celebration of student works includes drawings\, paintings\, photography\, poetry\, dance\, video and more. Works will be displayed throughout the museum.\nJoin us for these special events on Saturday\, May 20th:\n10:30 am -12:00 pm – Morse Auditorium\nSalem Student Voice Project Summit: “Raising the Volume of Student Voice”\nSalem Public Schools has taken on the challenge of social inequity by forming a partnership with the nonprofit Equity Imperative. This partnership led to the creation of the Student Voice Project\, an effort to amplify students’ concerns and help them take action to address them.\n1:30-2:45pm – Morse Auditorium\n“Leveraging the Power of Student Identity and Voice to Transform School Culture” Fireside Chat with Superintendent\, Dr. Stephen Zrike Jr\, SPS Artist-in-Residence &  Hip-Hop Performer\, Dee-1\, Equity Imperative Co-Founder and Director of the Student Voice Project\, Judith Diaz-Rodriguez. Opening remarks from Lt. Governor\, Kim Driscoll.\nSalem residents and SPS staff get in FREE! Come celebrate the incredible talent of Salem Public Schools students with us.
URL:https://spsbates.salemk12.org/event/see-me-a-celebration-of-sps-students-at-the-pem/
CATEGORIES:District
END:VEVENT
BEGIN:VEVENT
DTSTART;VALUE=DATE:20230519
DTEND;VALUE=DATE:20230523
DTSTAMP:20260421T094906
CREATED:20221104T204046Z
LAST-MODIFIED:20230521T195612Z
UID:2795-1684454400-1684799999@spsbates.salemk12.org
SUMMARY:See Me District Wide Art Celebration @ PEM
DESCRIPTION:
URL:https://spsbates.salemk12.org/event/see-me-district-wide-art-celebration-pem/
CATEGORIES:District
END:VEVENT
BEGIN:VEVENT
DTSTART;TZID=America/New_York:20230518T190000
DTEND;TZID=America/New_York:20230518T203000
DTSTAMP:20260421T094906
CREATED:20220929T191046Z
LAST-MODIFIED:20230412T235611Z
UID:2666-1684436400-1684441800@spsbates.salemk12.org
SUMMARY:SHS Pops Concert
DESCRIPTION:
URL:https://spsbates.salemk12.org/event/shs-pops-concert-2/
LOCATION:Salem High School\, 77 Willson St\, Salem\, MA 01970\, USA
CATEGORIES:District
END:VEVENT
BEGIN:VEVENT
DTSTART;VALUE=DATE:20230518
DTEND;VALUE=DATE:20230520
DTSTAMP:20260421T094906
CREATED:20230124T202610Z
LAST-MODIFIED:20230519T205558Z
UID:3129-1684368000-1684540799@spsbates.salemk12.org
SUMMARY:MCAS - Grade 5 Math
DESCRIPTION:
URL:https://spsbates.salemk12.org/event/mcas-grade-5-math/
CATEGORIES:Bates School
END:VEVENT
BEGIN:VEVENT
DTSTART;VALUE=DATE:20230516
DTEND;VALUE=DATE:20230518
DTSTAMP:20260421T094906
CREATED:20230124T202610Z
LAST-MODIFIED:20230517T205612Z
UID:3128-1684195200-1684367999@spsbates.salemk12.org
SUMMARY:MCAS - Grade 4 Math
DESCRIPTION:
URL:https://spsbates.salemk12.org/event/mcas-grade-4-math/
CATEGORIES:Bates School
END:VEVENT
BEGIN:VEVENT
DTSTART;TZID=America/New_York:20230515T190000
DTEND;TZID=America/New_York:20230515T203000
DTSTAMP:20260421T094906
CREATED:20220929T191046Z
LAST-MODIFIED:20230515T192612Z
UID:2665-1684177200-1684182600@spsbates.salemk12.org
SUMMARY:Class of 2023 Solo and Small Ensemble Recital
DESCRIPTION:
URL:https://spsbates.salemk12.org/event/class-of-2023-solo-and-small-ensemble-recital/
LOCATION:Salem State University\, 352 Lafayette St\, Salem\, MA 01970\, USA
CATEGORIES:District
END:VEVENT
BEGIN:VEVENT
DTSTART;TZID=America/New_York:20230511T173000
DTEND;TZID=America/New_York:20230511T183000
DTSTAMP:20260421T094906
CREATED:20220201T201050Z
LAST-MODIFIED:20220328T222649Z
UID:1452-1683826200-1683829800@spsbates.salemk12.org
SUMMARY:Parent Equity Group
DESCRIPTION:
URL:https://spsbates.salemk12.org/event/parent-equity-group-39/
LOCATION:Bates Library
CATEGORIES:Bates School
END:VEVENT
BEGIN:VEVENT
DTSTART;TZID=America/New_York:20230510T140500
DTEND;TZID=America/New_York:20230510T153500
DTSTAMP:20260421T094906
CREATED:20230129T204037Z
LAST-MODIFIED:20230509T205557Z
UID:3158-1683727500-1683732900@spsbates.salemk12.org
SUMMARY:Professional Development
DESCRIPTION:
URL:https://spsbates.salemk12.org/event/professional-development/
CATEGORIES:Bates School
END:VEVENT
BEGIN:VEVENT
DTSTART;VALUE=DATE:20230510
DTEND;VALUE=DATE:20230512
DTSTAMP:20260421T094906
CREATED:20230124T202609Z
LAST-MODIFIED:20230511T205610Z
UID:3127-1683676800-1683849599@spsbates.salemk12.org
SUMMARY:MCAS - Grade 3 Math
DESCRIPTION:
URL:https://spsbates.salemk12.org/event/mcas-grade-3-math/
CATEGORIES:Bates School
END:VEVENT
BEGIN:VEVENT
DTSTART;TZID=America/New_York:20230509T180000
DTEND;TZID=America/New_York:20230509T190000
DTSTAMP:20260421T094906
CREATED:20230127T202658Z
LAST-MODIFIED:20230509T205557Z
UID:3149-1683655200-1683658800@spsbates.salemk12.org
SUMMARY:PTO meeting
DESCRIPTION:
URL:https://spsbates.salemk12.org/event/pto-meeting-66/
CATEGORIES:Bates School
END:VEVENT
BEGIN:VEVENT
DTSTART;TZID=America/New_York:20230509T180000
DTEND;TZID=America/New_York:20230509T190000
DTSTAMP:20260421T094906
CREATED:20220829T182701Z
LAST-MODIFIED:20230509T205557Z
UID:2563-1683655200-1683658800@spsbates.salemk12.org
SUMMARY:PTO meeting
DESCRIPTION:
URL:https://spsbates.salemk12.org/event/pto-meeting-61/
CATEGORIES:Bates School
END:VEVENT
BEGIN:VEVENT
DTSTART;TZID=America/New_York:20230509T180000
DTEND;TZID=America/New_York:20230509T190000
DTSTAMP:20260421T094906
CREATED:20220810T205615Z
LAST-MODIFIED:20230509T205557Z
UID:2255-1683655200-1683658800@spsbates.salemk12.org
SUMMARY:PTO meeting
DESCRIPTION:
URL:https://spsbates.salemk12.org/event/pto-meeting-37/
CATEGORIES:Bates School
END:VEVENT
BEGIN:VEVENT
DTSTART;TZID=America/New_York:20230509T180000
DTEND;TZID=America/New_York:20230509T190000
DTSTAMP:20260421T094906
CREATED:20211215T181102Z
LAST-MODIFIED:20220328T222649Z
UID:1178-1683655200-1683658800@spsbates.salemk12.org
SUMMARY:PTO Meeting
DESCRIPTION:
URL:https://spsbates.salemk12.org/event/pto-meeting-17/
LOCATION:Bates School Library
CATEGORIES:Bates School
END:VEVENT
BEGIN:VEVENT
DTSTART;VALUE=DATE:20230508
DTEND;VALUE=DATE:20230509
DTSTAMP:20260421T094906
CREATED:20230305T221101Z
LAST-MODIFIED:20230508T205611Z
UID:3353-1683504000-1683590399@spsbates.salemk12.org
SUMMARY:Happy Teacher and Staff Appreciation Week!
DESCRIPTION:
URL:https://spsbates.salemk12.org/event/happy-teacher-and-staff-appreciation-week/
CATEGORIES:Bates School
END:VEVENT
BEGIN:VEVENT
DTSTART;VALUE=DATE:20230505
DTEND;VALUE=DATE:20230506
DTSTAMP:20260421T094906
CREATED:20230305T221101Z
LAST-MODIFIED:20230505T205424Z
UID:3352-1683244800-1683331199@spsbates.salemk12.org
SUMMARY:Walk A Thon Rain Date
DESCRIPTION:
URL:https://spsbates.salemk12.org/event/walk-a-thon-rain-date/
CATEGORIES:Bates School
END:VEVENT
BEGIN:VEVENT
DTSTART;TZID=America/New_York:20230504T173000
DTEND;TZID=America/New_York:20230504T183000
DTSTAMP:20260421T094906
CREATED:20211215T181102Z
LAST-MODIFIED:20220131T195650Z
UID:1177-1683221400-1683225000@spsbates.salemk12.org
SUMMARY:Parent Equity Group
DESCRIPTION:
URL:https://spsbates.salemk12.org/event/parent-equity-group-17/
LOCATION:Bates Library
CATEGORIES:Bates School
END:VEVENT
BEGIN:VEVENT
DTSTART;TZID=America/New_York:20230503T180000
DTEND;TZID=America/New_York:20230503T210000
DTSTAMP:20260421T094906
CREATED:20220929T191046Z
LAST-MODIFIED:20230503T191012Z
UID:2663-1683136800-1683147600@spsbates.salemk12.org
SUMMARY:Arts in the Evening Choral\, Band\, Orchestra Concerts
DESCRIPTION:
URL:https://spsbates.salemk12.org/event/arts-in-the-evening-choral-band-orchestra-concerts/
LOCATION:Salem High School\, 77 Willson St\, Salem\, MA 01970\, USA
CATEGORIES:District
END:VEVENT
BEGIN:VEVENT
DTSTART;TZID=America/New_York:20230503T180000
DTEND;TZID=America/New_York:20230503T200000
DTSTAMP:20260421T094906
CREATED:20230307T221050Z
LAST-MODIFIED:20230503T205611Z
UID:3384-1683136800-1683144000@spsbates.salemk12.org
SUMMARY:All City Concert
DESCRIPTION:
URL:https://spsbates.salemk12.org/event/all-city-concert/
CATEGORIES:Bates School
END:VEVENT
BEGIN:VEVENT
DTSTART;TZID=America/New_York:20230503T075000
DTEND;TZID=America/New_York:20230503T083500
DTSTAMP:20260421T094906
CREATED:20230428T204013Z
LAST-MODIFIED:20230502T205614Z
UID:3696-1683100200-1683102900@spsbates.salemk12.org
SUMMARY:K Screening Meeting - Lg. Conf. Room
DESCRIPTION:
URL:https://spsbates.salemk12.org/event/k-screening-meeting-lg-conf-room-2/
CATEGORIES:Bates School
END:VEVENT
BEGIN:VEVENT
DTSTART;TZID=America/New_York:20230503T075000
DTEND;TZID=America/New_York:20230503T083500
DTSTAMP:20260421T094906
CREATED:20230427T204011Z
LAST-MODIFIED:20230427T204011Z
UID:3693-1683100200-1683102900@spsbates.salemk12.org
SUMMARY:K Screening Meeting - Lg. Conf. Room
DESCRIPTION:
URL:https://spsbates.salemk12.org/event/k-screening-meeting-lg-conf-room/
CATEGORIES:Bates School
END:VEVENT
BEGIN:VEVENT
DTSTART;VALUE=DATE:20230501
DTEND;VALUE=DATE:20230502
DTSTAMP:20260421T094906
CREATED:20230305T221101Z
LAST-MODIFIED:20230501T204012Z
UID:3351-1682899200-1682985599@spsbates.salemk12.org
SUMMARY:Summative Evidence Due (Professional Status Teachers)
DESCRIPTION:
URL:https://spsbates.salemk12.org/event/summative-evidence-due-professional-status-teachers/
CATEGORIES:Bates School
END:VEVENT
BEGIN:VEVENT
DTSTART;VALUE=DATE:20230428
DTEND;VALUE=DATE:20230429
DTSTAMP:20260421T094906
CREATED:20230305T221050Z
LAST-MODIFIED:20230428T204013Z
UID:3350-1682640000-1682726399@spsbates.salemk12.org
SUMMARY:Walk-A-Thon
DESCRIPTION:8-8:30 prek \n8-9 k/1st \n9:05-10:05 2/3rd \n10:10-11:10 4/5 (Grade 1 will have their recess on the basketball court.)
URL:https://spsbates.salemk12.org/event/walk-a-thon/
CATEGORIES:Bates School
END:VEVENT
BEGIN:VEVENT
DTSTART;VALUE=DATE:20230426
DTEND;VALUE=DATE:20230427
DTSTAMP:20260421T094906
CREATED:20220929T191046Z
LAST-MODIFIED:20230426T184012Z
UID:2662-1682467200-1682553599@spsbates.salemk12.org
SUMMARY:SHS Concert Band/Wind Ensemble concert at Carnegie Hall
DESCRIPTION:
URL:https://spsbates.salemk12.org/event/shs-concert-band-wind-ensemble-concert-at-carnegie-hall/
CATEGORIES:District
END:VEVENT
BEGIN:VEVENT
DTSTART;VALUE=DATE:20230425
DTEND;VALUE=DATE:20230427
DTSTAMP:20260421T094906
CREATED:20230124T202556Z
LAST-MODIFIED:20230426T204013Z
UID:3126-1682380800-1682553599@spsbates.salemk12.org
SUMMARY:MCAS - ELA Makeups
DESCRIPTION:
URL:https://spsbates.salemk12.org/event/mcas-ela-makeups/
CATEGORIES:Bates School
END:VEVENT
BEGIN:VEVENT
DTSTART;VALUE=DATE:20230425
DTEND;VALUE=DATE:20230426
DTSTAMP:20260421T094906
CREATED:20230406T194025Z
LAST-MODIFIED:20230425T204012Z
UID:3618-1682380800-1682467199@spsbates.salemk12.org
SUMMARY:Attendance Meeting
DESCRIPTION:
URL:https://spsbates.salemk12.org/event/attendance-meeting/
CATEGORIES:Bates School
END:VEVENT
BEGIN:VEVENT
DTSTART;VALUE=DATE:20230425
DTEND;VALUE=DATE:20230426
DTSTAMP:20260421T094906
CREATED:20230305T221050Z
LAST-MODIFIED:20230425T204012Z
UID:3349-1682380800-1682467199@spsbates.salemk12.org
SUMMARY:Summative Evidence Due (NPS teachers)
DESCRIPTION:
URL:https://spsbates.salemk12.org/event/summative-evidence-due-nps-teachers/
CATEGORIES:Bates School
END:VEVENT
BEGIN:VEVENT
DTSTART;VALUE=DATE:20230417
DTEND;VALUE=DATE:20230422
DTSTAMP:20260421T094906
CREATED:20220826T181104Z
LAST-MODIFIED:20230421T201012Z
UID:2489-1681689600-1682121599@spsbates.salemk12.org
SUMMARY:Spring Break
DESCRIPTION:
URL:https://spsbates.salemk12.org/event/spring-break/
CATEGORIES:Bates School
END:VEVENT
BEGIN:VEVENT
DTSTART;VALUE=DATE:20230417
DTEND;VALUE=DATE:20230422
DTSTAMP:20260421T094906
CREATED:20220826T181039Z
LAST-MODIFIED:20230421T181014Z
UID:2465-1681689600-1682121599@spsbates.salemk12.org
SUMMARY:APRIL BREAK
DESCRIPTION:
URL:https://spsbates.salemk12.org/event/april-break/
CATEGORIES:District
END:VEVENT
BEGIN:VEVENT
DTSTART;TZID=America/New_York:20230413T190000
DTEND;TZID=America/New_York:20230413T203000
DTSTAMP:20260421T094906
CREATED:20220929T191046Z
LAST-MODIFIED:20230412T235610Z
UID:2661-1681412400-1681417800@spsbates.salemk12.org
SUMMARY:Salem High School Tri-M Honor Society Talent Show
DESCRIPTION:
URL:https://spsbates.salemk12.org/event/salem-high-school-tri-m-honor-society-talent-show/
LOCATION:Salem High School\, 77 Willson St\, Salem\, MA 01970\, USA
CATEGORIES:District
END:VEVENT
END:VCALENDAR