BEGIN:VCALENDAR
VERSION:2.0
PRODID:-//Bates School - ECPv6.15.18//NONSGML v1.0//EN
CALSCALE:GREGORIAN
METHOD:PUBLISH
X-WR-CALNAME:Bates School
X-ORIGINAL-URL:https://spsbates.salemk12.org
X-WR-CALDESC:Events for Bates School
REFRESH-INTERVAL;VALUE=DURATION:PT1H
X-Robots-Tag:noindex
X-PUBLISHED-TTL:PT1H
BEGIN:VTIMEZONE
TZID:America/New_York
BEGIN:DAYLIGHT
TZOFFSETFROM:-0500
TZOFFSETTO:-0400
TZNAME:EDT
DTSTART:20240310T070000
END:DAYLIGHT
BEGIN:STANDARD
TZOFFSETFROM:-0400
TZOFFSETTO:-0500
TZNAME:EST
DTSTART:20241103T060000
END:STANDARD
BEGIN:DAYLIGHT
TZOFFSETFROM:-0500
TZOFFSETTO:-0400
TZNAME:EDT
DTSTART:20250309T070000
END:DAYLIGHT
BEGIN:STANDARD
TZOFFSETFROM:-0400
TZOFFSETTO:-0500
TZNAME:EST
DTSTART:20251102T060000
END:STANDARD
BEGIN:DAYLIGHT
TZOFFSETFROM:-0500
TZOFFSETTO:-0400
TZNAME:EDT
DTSTART:20260308T070000
END:DAYLIGHT
BEGIN:STANDARD
TZOFFSETFROM:-0400
TZOFFSETTO:-0500
TZNAME:EST
DTSTART:20261101T060000
END:STANDARD
BEGIN:DAYLIGHT
TZOFFSETFROM:-0500
TZOFFSETTO:-0400
TZNAME:EDT
DTSTART:20270314T070000
END:DAYLIGHT
BEGIN:STANDARD
TZOFFSETFROM:-0400
TZOFFSETTO:-0500
TZNAME:EST
DTSTART:20271107T060000
END:STANDARD
END:VTIMEZONE
BEGIN:VEVENT
DTSTART;VALUE=DATE:20260317
DTEND;VALUE=DATE:20260318
DTSTAMP:20260420T003848
CREATED:20260310T191211Z
LAST-MODIFIED:20260310T191211Z
UID:8966-1773705600-1773791999@spsbates.salemk12.org
SUMMARY:March 17 - Early release day - Student Learning Celebrations
DESCRIPTION:
URL:https://spsbates.salemk12.org/event/march-17-early-release-day-student-learning-celebrations/
CATEGORIES:Bates School
END:VEVENT
BEGIN:VEVENT
DTSTART;VALUE=DATE:20260316
DTEND;VALUE=DATE:20260317
DTSTAMP:20260420T003848
CREATED:20260310T191137Z
LAST-MODIFIED:20260310T191137Z
UID:8964-1773619200-1773705599@spsbates.salemk12.org
SUMMARY:March 16 - No School for Students - Student Learning Celebrations
DESCRIPTION:
URL:https://spsbates.salemk12.org/event/march-16-no-school-for-students-student-learning-celebrations/
CATEGORIES:Bates School
END:VEVENT
BEGIN:VEVENT
DTSTART;TZID=America/New_York:20260314T110000
DTEND;TZID=America/New_York:20260314T140000
DTSTAMP:20260420T003848
CREATED:20260314T194349Z
LAST-MODIFIED:20260224T232541Z
UID:8848-1773486000-1773496800@spsbates.salemk12.org
SUMMARY:Design Day
DESCRIPTION:Salem Public Schools is hosting Design Day 2026 on Saturday\, Mar. 14\, from 11 a.m.-2 p.m. at Collins Middle School for students\, parents\, and community members to help us shape the next 10 years of K-12 education in Salem.
URL:https://spsbates.salemk12.org/event/design-day/
LOCATION:Collins Middle School\, 29 Highland Ave\, Salem\, MA 01970\, USA
CATEGORIES:Bates School,District
END:VEVENT
BEGIN:VEVENT
DTSTART;TZID=America/New_York:20260310T183000
DTEND;TZID=America/New_York:20260310T193000
DTSTAMP:20260420T003848
CREATED:20240814T225711Z
LAST-MODIFIED:20250812T185654Z
UID:5752-1773167400-1773171000@spsbates.salemk12.org
SUMMARY:Bates PTO Meeting
DESCRIPTION:
URL:https://spsbates.salemk12.org/event/bates-pto-meeting-19/
CATEGORIES:Bates School
END:VEVENT
BEGIN:VEVENT
DTSTART;VALUE=DATE:20260309
DTEND;VALUE=DATE:20260314
DTSTAMP:20260420T003848
CREATED:20251107T155551Z
LAST-MODIFIED:20251107T155551Z
UID:8295-1773014400-1773446399@spsbates.salemk12.org
SUMMARY:Early Childhood Education School Tours (contact your desired schools)
DESCRIPTION:
URL:https://spsbates.salemk12.org/event/early-childhood-education-school-tours-contact-your-desired-schools/
END:VEVENT
BEGIN:VEVENT
DTSTART;VALUE=DATE:20260309
DTEND;VALUE=DATE:20260314
DTSTAMP:20260420T003848
CREATED:20250228T192635Z
LAST-MODIFIED:20250812T185654Z
UID:7235-1773014400-1773446399@spsbates.salemk12.org
SUMMARY:School Tours Week 2
DESCRIPTION:School Tours Week 2 – March 9-13\, 2026
URL:https://spsbates.salemk12.org/event/school-tours-week-2-march-9-13-2026/
CATEGORIES:Bates School
END:VEVENT
BEGIN:VEVENT
DTSTART;TZID=America/New_York:20260302T183000
DTEND;TZID=America/New_York:20260302T193000
DTSTAMP:20260420T003848
CREATED:20260224T232952Z
LAST-MODIFIED:20260224T232952Z
UID:8923-1772476200-1772479800@spsbates.salemk12.org
SUMMARY:The Public Budget Forum
DESCRIPTION:The Public Budget Forum has been changed to Monday\, Mar. 2\, at the SHS Library. \nFamilies can still submit your questions and comments at spsbudget@salemk12.org.
URL:https://spsbates.salemk12.org/event/the-public-budget-forum/
LOCATION:Salem High School\, 77 Willson St\, Salem\, MA 01970\, USA
CATEGORIES:Bates School
END:VEVENT
BEGIN:VEVENT
DTSTART;VALUE=DATE:20260217
DTEND;VALUE=DATE:20260320
DTSTAMP:20260420T003848
CREATED:20251107T155441Z
LAST-MODIFIED:20251107T155441Z
UID:8293-1771286400-1773964799@spsbates.salemk12.org
SUMMARY:Ramadan
DESCRIPTION:
URL:https://spsbates.salemk12.org/event/ramadan/
END:VEVENT
BEGIN:VEVENT
DTSTART;VALUE=DATE:20260216
DTEND;VALUE=DATE:20260221
DTSTAMP:20260420T003848
CREATED:20250630T214015Z
LAST-MODIFIED:20250812T185642Z
UID:7694-1771200000-1771631999@spsbates.salemk12.org
SUMMARY:February Break | No School
DESCRIPTION:
URL:https://spsbates.salemk12.org/event/february-break-no-school-2/
CATEGORIES:Bates School
END:VEVENT
BEGIN:VEVENT
DTSTART;TZID=America/New_York:20260212T180000
DTEND;TZID=America/New_York:20260212T190000
DTSTAMP:20260420T003848
CREATED:20260204T174202Z
LAST-MODIFIED:20260204T174202Z
UID:8854-1770919200-1770922800@spsbates.salemk12.org
SUMMARY:Collins Middle School Showcase
DESCRIPTION:Grade 5 Families…SAVE THE DATE! \nCollins Middle School will host its annual Showcase on Thursday\, Feb. 12\, from 6-7 p.m. in the CMS Library/Mary A. Manning Learning Commons. \nThis event will be a great opportunity for families to learn about Collins Middle School’s transformative education experience\, academic programs\, and unique student experience.\nWe are especially excited to share updates about the expansion of our Dual Language Program from the Bentley Academy Innovation School\, as well as highlight the enrichment opportunities and after-school programs available to our students. \nWe hope you will join us to learn more and connect with our school community. We look forward to seeing you there.
URL:https://spsbates.salemk12.org/event/collins-middle-school-showcase/
LOCATION:Collins Middle School\, 29 Highland Ave\, Salem\, MA 01970\, USA
CATEGORIES:Bates School,District
END:VEVENT
BEGIN:VEVENT
DTSTART;TZID=America/New_York:20260210T183000
DTEND;TZID=America/New_York:20260210T193000
DTSTAMP:20260420T003848
CREATED:20240814T225710Z
LAST-MODIFIED:20250812T185642Z
UID:5751-1770748200-1770751800@spsbates.salemk12.org
SUMMARY:Bates PTO Meeting
DESCRIPTION:
URL:https://spsbates.salemk12.org/event/bates-pto-meeting-18/
CATEGORIES:Bates School
END:VEVENT
BEGIN:VEVENT
DTSTART;TZID=America/New_York:20260203T183000
DTEND;TZID=America/New_York:20260203T193000
DTSTAMP:20260420T003848
CREATED:20260109T134715Z
LAST-MODIFIED:20260109T134715Z
UID:8514-1770143400-1770147000@spsbates.salemk12.org
SUMMARY:FREE WEBINAR: Keeping Kids Safe and Secure Online
DESCRIPTION:Venue: Online/Virtual Link to webinar:   https://usao.webex.com/webappng/sites/usao/meeting/register/cdbbcdf249c440b68e7083b99f28711c?ticket=4832534b0000000564d3d23d47f94e3ef60c630924ad07299a412fbc1d64d190a35c81fc6d293e52&timestamp=1767900631997&RGID=r83f7d49f6565b65bce8bb420f1cfef7c&isAutoPopRegisterForm=false  In the ‘Excerpt’ window\, add ‘Password: PSC1’
URL:https://spsbates.salemk12.org/event/free-webinar-keeping-kids-safe-and-secure-online/
LOCATION:Online/Virtual
END:VEVENT
BEGIN:VEVENT
DTSTART;TZID=America/New_York:20260129T180000
DTEND;TZID=America/New_York:20260129T193000
DTSTAMP:20260420T003848
CREATED:20251107T155341Z
LAST-MODIFIED:20251107T155341Z
UID:8291-1769709600-1769715000@spsbates.salemk12.org
SUMMARY:ELPAC online meeting
DESCRIPTION:Link for online meeting: https://meet.google.com/xte-cyir-ubb
URL:https://spsbates.salemk12.org/event/elpac-online-meeting-2/
END:VEVENT
BEGIN:VEVENT
DTSTART;TZID=America/New_York:20260128T183000
DTEND;TZID=America/New_York:20260128T200000
DTSTAMP:20260420T003848
CREATED:20250227T192453Z
LAST-MODIFIED:20251024T201823Z
UID:7227-1769625000-1769630400@spsbates.salemk12.org
SUMMARY:Virtual Early Childhood Town Hall
DESCRIPTION:
URL:https://spsbates.salemk12.org/event/virtual-town-hall/
LOCATION:Online/Virtual
CATEGORIES:Bates School
END:VEVENT
BEGIN:VEVENT
DTSTART;TZID=America/New_York:20260128T180000
DTEND;TZID=America/New_York:20260128T193000
DTSTAMP:20260420T003848
CREATED:20251107T155250Z
LAST-MODIFIED:20251107T155250Z
UID:8289-1769623200-1769628600@spsbates.salemk12.org
SUMMARY:Virtual Early Childhood Town Hall
DESCRIPTION:This is a placeholder for your calendar. As a reminder\, the virtual Town Hall will feature a slide deck overview of our early learning programs and will lead into a Q&A session. Dr. Zrike will call upon different principals to help answer school-based questions and different department heads\, depending on the content of the questions asked.  You will be invited as a panelist via Zoom. I will send out your panelist link after the winter break. Once you receive your individual panelist link\, my suggestion would be to add a separate invite to your calendar with that link in it so it’s readily available the evening of the expo.
URL:https://spsbates.salemk12.org/event/virtual-early-childhood-town-hall/
END:VEVENT
BEGIN:VEVENT
DTSTART;VALUE=DATE:20260128
DTEND;VALUE=DATE:20260129
DTSTAMP:20260420T003848
CREATED:20250630T213958Z
LAST-MODIFIED:20251003T154248Z
UID:7693-1769558400-1769644799@spsbates.salemk12.org
SUMMARY:Professional Development Day (Half Day)
DESCRIPTION:Dismissal for PreK and K is at 10:55 a.m. \nDismissal for Grades 1-5 is at 11:05 a.m.
URL:https://spsbates.salemk12.org/event/professional-development-day-half-day-13/
CATEGORIES:Bates School
END:VEVENT
BEGIN:VEVENT
DTSTART;TZID=America/New_York:20260123T130000
DTEND;TZID=America/New_York:20260123T134500
DTSTAMP:20260420T003848
CREATED:20251114T135742Z
LAST-MODIFIED:20251114T135742Z
UID:8316-1769173200-1769175900@spsbates.salemk12.org
SUMMARY:Grades 3\, 4 and 5 Winter Concert
DESCRIPTION:Families are welcome to wait in the lobby until the gym doors open at 12:45pm.
URL:https://spsbates.salemk12.org/event/grades-3-4-and-5-winter-concert/
LOCATION:Bates Elementary School\, 53 Liberty Hill Ave\, Salem\, MA 01970\, USA
END:VEVENT
BEGIN:VEVENT
DTSTART;TZID=America/New_York:20260120T183000
DTEND;TZID=America/New_York:20260120T193000
DTSTAMP:20260420T003848
CREATED:20240814T225710Z
LAST-MODIFIED:20251202T204459Z
UID:5750-1768933800-1768937400@spsbates.salemk12.org
SUMMARY:Bates PTO Meeting
DESCRIPTION:
URL:https://spsbates.salemk12.org/event/bates-pto-meeting-17/
CATEGORIES:Bates School
END:VEVENT
BEGIN:VEVENT
DTSTART;VALUE=DATE:20260120
DTEND;VALUE=DATE:20260124
DTSTAMP:20260420T003848
CREATED:20251107T155059Z
LAST-MODIFIED:20251107T155059Z
UID:8287-1768867200-1769212799@spsbates.salemk12.org
SUMMARY:Early Childhood Education School Tours (contact your desired schools to schedule)
DESCRIPTION:
URL:https://spsbates.salemk12.org/event/early-childhood-education-school-tours-contact-your-desired-schools-to-schedule/
END:VEVENT
BEGIN:VEVENT
DTSTART;VALUE=DATE:20260119
DTEND;VALUE=DATE:20260120
DTSTAMP:20260420T003848
CREATED:20250630T213958Z
LAST-MODIFIED:20250812T185642Z
UID:7692-1768780800-1768867199@spsbates.salemk12.org
SUMMARY:Martin Luther King Jr. Day | No School
DESCRIPTION:
URL:https://spsbates.salemk12.org/event/martin-luther-king-jr-day-no-school/
CATEGORIES:Bates School
END:VEVENT
BEGIN:VEVENT
DTSTART;TZID=America/New_York:20260115T190000
DTEND;TZID=America/New_York:20260115T210000
DTSTAMP:20260420T003848
CREATED:20260105T152158Z
LAST-MODIFIED:20260105T152158Z
UID:8476-1768503600-1768510800@spsbates.salemk12.org
SUMMARY:Beginner Elementary All-City Fourth Grade Concert
DESCRIPTION:Thursday\, Jan. 15 (7-9 p.m.)\nBeginner Elementary All-City Fourth Grade Concert\nSalem High School M. Ruth Norton Auditorium 
URL:https://spsbates.salemk12.org/event/beginner-elementary-all-city-fourth-grade-concert/
LOCATION:Salem High School\, 77 Willson St\, Salem\, MA 01970\, USA
END:VEVENT
BEGIN:VEVENT
DTSTART;TZID=America/New_York:20260115T190000
DTEND;TZID=America/New_York:20260115T200000
DTSTAMP:20260420T003848
CREATED:20260107T140724Z
LAST-MODIFIED:20260107T140724Z
UID:8483-1768503600-1768507200@spsbates.salemk12.org
SUMMARY:FREE WEBINAR | Helping Kids Handle Big Feelings
DESCRIPTION:  \n\nVenue: Online/Virtual\nLink: https://cartwheelcare.zoom.us/webinar/register/WN_TGMHRPJgSuquXEZeZVsXkw#/registration?utm_source=Hubspot&utm_medium=promo-toolkit&utm_campaign=familywebinarjan&utm_content=mpocemail1
URL:https://spsbates.salemk12.org/event/free-webinar-helping-kids-handle-big-feelings/
LOCATION:Online/Virtual
END:VEVENT
BEGIN:VEVENT
DTSTART;TZID=America/New_York:20260115T090000
DTEND;TZID=America/New_York:20260115T094500
DTSTAMP:20260420T003848
CREATED:20251114T135337Z
LAST-MODIFIED:20251114T135337Z
UID:8314-1768467600-1768470300@spsbates.salemk12.org
SUMMARY:Grades 4 and 5 Instrumental Music Concert for Caregivers & Students
DESCRIPTION:Families are welcome to wait in the lobby until the gym doors open at 8:45 am.
URL:https://spsbates.salemk12.org/event/grades-4-and-5-instrumental-music-concert-for-caregivers-students/
LOCATION:Bates Elementary School\, 53 Liberty Hill Ave\, Salem\, MA 01970\, USA
END:VEVENT
BEGIN:VEVENT
DTSTART;TZID=America/New_York:20260114T173000
DTEND;TZID=America/New_York:20260114T190000
DTSTAMP:20260420T003848
CREATED:20251107T154931Z
LAST-MODIFIED:20251107T154931Z
UID:8285-1768411800-1768417200@spsbates.salemk12.org
SUMMARY:Early Childhood Expo at Collins Middle School
DESCRIPTION:In the Collins Middle School Cafeteria.
URL:https://spsbates.salemk12.org/event/early-childhood-expo-at-collins-middle-school/
LOCATION:Collins Middle School\, 29 Highland Ave\, Salem\, MA 01970\, USA
END:VEVENT
BEGIN:VEVENT
DTSTART;TZID=America/New_York:20260113T190000
DTEND;TZID=America/New_York:20260113T210000
DTSTAMP:20260420T003848
CREATED:20260105T152107Z
LAST-MODIFIED:20260105T152107Z
UID:8474-1768330800-1768338000@spsbates.salemk12.org
SUMMARY:Advanced Elementary Fifth Grade Concert Salem High School M. Ruth Norton Auditorium
DESCRIPTION:Tuesday\, Jan. 13 (7-9 p.m.)\nAdvanced Elementary Fifth Grade Concert\nSalem High School M. Ruth Norton Auditorium
URL:https://spsbates.salemk12.org/event/advanced-elementary-fifth-grade-concert-salem-high-school-m-ruth-norton-auditorium/
LOCATION:Salem High School\, 77 Willson St\, Salem\, MA 01970\, USA
END:VEVENT
BEGIN:VEVENT
DTSTART;TZID=America/New_York:20260109T180000
DTEND;TZID=America/New_York:20260109T190000
DTSTAMP:20260420T003848
CREATED:20260105T003013Z
LAST-MODIFIED:20260105T003013Z
UID:8471-1767981600-1767985200@spsbates.salemk12.org
SUMMARY:Bingo Night hosted by the Bates PTO!
DESCRIPTION:Join us for a fun Bingo Night hosted by the Bates PTO!\n Friday\, January 9th\n 6:00–7:00 PM\n School Cafeteria\n Games • Fun • Prizes\n Candy bar prizes\n Every child will receive a prize at the end of the night!\n FREE for all Bates families\n Water and snacks available for purchase (cash and card accepted)\n  \nWe hope to see you there for a fun family night!
URL:https://spsbates.salemk12.org/event/bingo-night-hosted-by-the-bates-pto/
LOCATION:Bates Elementary School\, 53 Liberty Hill Ave\, Salem\, MA 01970\, USA
END:VEVENT
BEGIN:VEVENT
DTSTART;VALUE=DATE:20251222
DTEND;VALUE=DATE:20260103
DTSTAMP:20260420T003848
CREATED:20250630T213958Z
LAST-MODIFIED:20250812T185642Z
UID:7691-1766361600-1767398399@spsbates.salemk12.org
SUMMARY:Winter Break | No School
DESCRIPTION:
URL:https://spsbates.salemk12.org/event/winter-break-no-school-2/
CATEGORIES:Bates School
END:VEVENT
BEGIN:VEVENT
DTSTART;VALUE=DATE:20251215
DTEND;VALUE=DATE:20251220
DTSTAMP:20260420T003848
CREATED:20251107T153326Z
LAST-MODIFIED:20251107T154753Z
UID:8283-1765756800-1766188799@spsbates.salemk12.org
SUMMARY:Holiday Store
DESCRIPTION:
URL:https://spsbates.salemk12.org/event/holiday-store/
LOCATION:Bates Elementary School\, 53 Liberty Hill Ave\, Salem\, MA\, United States
GEO:42.532777;-70.905258
X-APPLE-STRUCTURED-LOCATION;VALUE=URI;X-ADDRESS=Bates Elementary School 53 Liberty Hill Ave Salem MA United States;X-APPLE-RADIUS=500;X-TITLE=53 Liberty Hill Ave:geo:-70.905258,42.532777
END:VEVENT
BEGIN:VEVENT
DTSTART;VALUE=DATE:20251214
DTEND;VALUE=DATE:20251223
DTSTAMP:20260420T003848
CREATED:20251107T153112Z
LAST-MODIFIED:20251107T153159Z
UID:8281-1765670400-1766447999@spsbates.salemk12.org
SUMMARY:Hanukkah
DESCRIPTION:
URL:https://spsbates.salemk12.org/event/hanukkah-2/
END:VEVENT
BEGIN:VEVENT
DTSTART;TZID=America/New_York:20251211T074500
DTEND;TZID=America/New_York:20251211T084500
DTSTAMP:20260420T003848
CREATED:20251022T142635Z
LAST-MODIFIED:20251022T142635Z
UID:8204-1765439100-1765442700@spsbates.salemk12.org
SUMMARY:School Site Council Meeting
DESCRIPTION:
URL:https://spsbates.salemk12.org/event/school-site-council-meeting-2/
CATEGORIES:Bates School
END:VEVENT
END:VCALENDAR