BEGIN:VCALENDAR
VERSION:2.0
PRODID:-//Bates School - ECPv6.15.18//NONSGML v1.0//EN
CALSCALE:GREGORIAN
METHOD:PUBLISH
X-WR-CALNAME:Bates School
X-ORIGINAL-URL:https://spsbates.salemk12.org
X-WR-CALDESC:Events for Bates School
REFRESH-INTERVAL;VALUE=DURATION:PT1H
X-Robots-Tag:noindex
X-PUBLISHED-TTL:PT1H
BEGIN:VTIMEZONE
TZID:America/New_York
BEGIN:DAYLIGHT
TZOFFSETFROM:-0500
TZOFFSETTO:-0400
TZNAME:EDT
DTSTART:20210314T070000
END:DAYLIGHT
BEGIN:STANDARD
TZOFFSETFROM:-0400
TZOFFSETTO:-0500
TZNAME:EST
DTSTART:20211107T060000
END:STANDARD
BEGIN:DAYLIGHT
TZOFFSETFROM:-0500
TZOFFSETTO:-0400
TZNAME:EDT
DTSTART:20220313T070000
END:DAYLIGHT
BEGIN:STANDARD
TZOFFSETFROM:-0400
TZOFFSETTO:-0500
TZNAME:EST
DTSTART:20221106T060000
END:STANDARD
BEGIN:DAYLIGHT
TZOFFSETFROM:-0500
TZOFFSETTO:-0400
TZNAME:EDT
DTSTART:20230312T070000
END:DAYLIGHT
BEGIN:STANDARD
TZOFFSETFROM:-0400
TZOFFSETTO:-0500
TZNAME:EST
DTSTART:20231105T060000
END:STANDARD
END:VTIMEZONE
BEGIN:VEVENT
DTSTART;VALUE=DATE:20220524
DTEND;VALUE=DATE:20220525
DTSTAMP:20260422T183200
CREATED:20220330T222638Z
LAST-MODIFIED:20220524T192612Z
UID:1740-1653350400-1653436799@spsbates.salemk12.org
SUMMARY:5th Grade Science MCAS
DESCRIPTION:
URL:https://spsbates.salemk12.org/event/5th-grade-science-mcas-2/
CATEGORIES:Bates School
END:VEVENT
BEGIN:VEVENT
DTSTART;VALUE=DATE:20220523
DTEND;VALUE=DATE:20220524
DTSTAMP:20260422T183200
CREATED:20220330T222638Z
LAST-MODIFIED:20220523T192615Z
UID:1739-1653264000-1653350399@spsbates.salemk12.org
SUMMARY:5th Grade Science MCAS
DESCRIPTION:
URL:https://spsbates.salemk12.org/event/5th-grade-science-mcas/
CATEGORIES:Bates School
END:VEVENT
BEGIN:VEVENT
DTSTART;VALUE=DATE:20220520
DTEND;VALUE=DATE:20220521
DTSTAMP:20260422T183200
CREATED:20220429T235614Z
LAST-MODIFIED:20220520T185613Z
UID:1880-1653004800-1653091199@spsbates.salemk12.org
SUMMARY:All Grades Group Picture Day!
DESCRIPTION:
URL:https://spsbates.salemk12.org/event/all-grades-group-picture-day/
CATEGORIES:Bates School
END:VEVENT
BEGIN:VEVENT
DTSTART;VALUE=DATE:20220520
DTEND;VALUE=DATE:20220521
DTSTAMP:20260422T183200
CREATED:20220330T222638Z
LAST-MODIFIED:20220520T185613Z
UID:1738-1653004800-1653091199@spsbates.salemk12.org
SUMMARY:4th Grade Math MCAS
DESCRIPTION:
URL:https://spsbates.salemk12.org/event/4th-grade-math-mcas-2/
CATEGORIES:Bates School
END:VEVENT
BEGIN:VEVENT
DTSTART;VALUE=DATE:20220519
DTEND;VALUE=DATE:20220520
DTSTAMP:20260422T183200
CREATED:20220330T222638Z
LAST-MODIFIED:20220518T185613Z
UID:1737-1652918400-1653004799@spsbates.salemk12.org
SUMMARY:4th Grade Math MCAS
DESCRIPTION:
URL:https://spsbates.salemk12.org/event/4th-grade-math-mcas/
CATEGORIES:Bates School
END:VEVENT
BEGIN:VEVENT
DTSTART;VALUE=DATE:20220518
DTEND;VALUE=DATE:20220519
DTSTAMP:20260422T183200
CREATED:20220330T222638Z
LAST-MODIFIED:20220518T185613Z
UID:1736-1652832000-1652918399@spsbates.salemk12.org
SUMMARY:3rd Grade Math MCAS
DESCRIPTION:
URL:https://spsbates.salemk12.org/event/3rd-grade-math-mcas-2/
CATEGORIES:Bates School
END:VEVENT
BEGIN:VEVENT
DTSTART;TZID=America/New_York:20220517T180000
DTEND;TZID=America/New_York:20220517T190000
DTSTAMP:20260422T183200
CREATED:20220426T235612Z
LAST-MODIFIED:20220517T185615Z
UID:1867-1652810400-1652814000@spsbates.salemk12.org
SUMMARY:PTO meeting
DESCRIPTION:
URL:https://spsbates.salemk12.org/event/pto-meeting-28/
CATEGORIES:Bates School
END:VEVENT
BEGIN:VEVENT
DTSTART;VALUE=DATE:20220517
DTEND;VALUE=DATE:20220518
DTSTAMP:20260422T183200
CREATED:20220330T222625Z
LAST-MODIFIED:20220517T185615Z
UID:1735-1652745600-1652831999@spsbates.salemk12.org
SUMMARY:3rd Grade Math MCAS
DESCRIPTION:
URL:https://spsbates.salemk12.org/event/3rd-grade-math-mcas/
CATEGORIES:Bates School
END:VEVENT
BEGIN:VEVENT
DTSTART;TZID=America/New_York:20220516T190000
DTEND;TZID=America/New_York:20220516T200000
DTSTAMP:20260422T183200
CREATED:20211214T160258Z
LAST-MODIFIED:20220516T195614Z
UID:1082-1652727600-1652731200@spsbates.salemk12.org
SUMMARY:Class of 2022 Recital
DESCRIPTION:
URL:https://spsbates.salemk12.org/event/class-of-2022-recital/
LOCATION:Salem High School\, 77 Willson St\, Salem\, MA 01970\, USA
CATEGORIES:District
END:VEVENT
BEGIN:VEVENT
DTSTART;TZID=America/New_York:20220516T190000
DTEND;TZID=America/New_York:20220516T200000
DTSTAMP:20260422T183200
CREATED:20211214T160258Z
LAST-MODIFIED:20220516T195614Z
UID:1083-1652727600-1652731200@spsbates.salemk12.org
SUMMARY:School Committee Meeting
DESCRIPTION:
URL:https://spsbates.salemk12.org/event/school-committee-meeting-11/
CATEGORIES:District
END:VEVENT
BEGIN:VEVENT
DTSTART;TZID=America/New_York:20220509T180000
DTEND;TZID=America/New_York:20220509T190000
DTSTAMP:20260422T183200
CREATED:20211215T181025Z
LAST-MODIFIED:20220425T235613Z
UID:1123-1652119200-1652122800@spsbates.salemk12.org
SUMMARY:PTO Meeting
DESCRIPTION:
URL:https://spsbates.salemk12.org/event/pto-meeting-5/
LOCATION:Bates School Library
CATEGORIES:Bates School
END:VEVENT
BEGIN:VEVENT
DTSTART;TZID=America/New_York:20220505T173000
DTEND;TZID=America/New_York:20220505T183000
DTSTAMP:20260422T183200
CREATED:20211215T181025Z
LAST-MODIFIED:20220131T195626Z
UID:1122-1651771800-1651775400@spsbates.salemk12.org
SUMMARY:Parent Equity Group
DESCRIPTION:
URL:https://spsbates.salemk12.org/event/parent-equity-group-5/
LOCATION:Bates Library
CATEGORIES:Bates School
END:VEVENT
BEGIN:VEVENT
DTSTART;VALUE=DATE:20220505
DTEND;VALUE=DATE:20220506
DTSTAMP:20260422T183200
CREATED:20220330T222625Z
LAST-MODIFIED:20220505T235512Z
UID:1734-1651708800-1651795199@spsbates.salemk12.org
SUMMARY:5th Grade Math MCAS
DESCRIPTION:
URL:https://spsbates.salemk12.org/event/5th-grade-math-mcas-2/
CATEGORIES:Bates School
END:VEVENT
BEGIN:VEVENT
DTSTART;TZID=America/New_York:20220504T180000
DTEND;TZID=America/New_York:20220504T200000
DTSTAMP:20260422T183200
CREATED:20211214T160258Z
LAST-MODIFIED:20220504T185613Z
UID:1080-1651687200-1651694400@spsbates.salemk12.org
SUMMARY:All City Chorus\, Band\, and Orchestra Concert
DESCRIPTION:
URL:https://spsbates.salemk12.org/event/all-city-chorus-band-and-orchestra-concert/
CATEGORIES:District
END:VEVENT
BEGIN:VEVENT
DTSTART;VALUE=DATE:20220504
DTEND;VALUE=DATE:20220505
DTSTAMP:20260422T183200
CREATED:20220330T222625Z
LAST-MODIFIED:20220504T235612Z
UID:1733-1651622400-1651708799@spsbates.salemk12.org
SUMMARY:5th Grade Math MCAS
DESCRIPTION:
URL:https://spsbates.salemk12.org/event/5th-grade-math-mcas/
CATEGORIES:Bates School
END:VEVENT
BEGIN:VEVENT
DTSTART;TZID=America/New_York:20220502T190000
DTEND;TZID=America/New_York:20220502T210000
DTSTAMP:20260422T183200
CREATED:20211214T160258Z
LAST-MODIFIED:20220502T185613Z
UID:1079-1651518000-1651525200@spsbates.salemk12.org
SUMMARY:School Committee Meeting
DESCRIPTION:
URL:https://spsbates.salemk12.org/event/school-committee-meeting-10/
CATEGORIES:District
END:VEVENT
BEGIN:VEVENT
DTSTART;VALUE=DATE:20220429
DTEND;VALUE=DATE:20220430
DTSTAMP:20260422T183200
CREATED:20220330T222625Z
LAST-MODIFIED:20220429T235614Z
UID:1732-1651190400-1651276799@spsbates.salemk12.org
SUMMARY:Bates School WALK A Thon-Rain day
DESCRIPTION:
URL:https://spsbates.salemk12.org/event/bates-school-walk-a-thon-rain-day/
CATEGORIES:Bates School
END:VEVENT
BEGIN:VEVENT
DTSTART;TZID=America/New_York:20220428T173000
DTEND;TZID=America/New_York:20220428T183000
DTSTAMP:20260422T183200
CREATED:20220201T201026Z
LAST-MODIFIED:20220427T235614Z
UID:1440-1651167000-1651170600@spsbates.salemk12.org
SUMMARY:Parent Equity Group
DESCRIPTION:
URL:https://spsbates.salemk12.org/event/parent-equity-group-27/
LOCATION:Bates Library
CATEGORIES:Bates School
END:VEVENT
BEGIN:VEVENT
DTSTART;VALUE=DATE:20220428
DTEND;VALUE=DATE:20220429
DTSTAMP:20260422T183200
CREATED:20220330T222625Z
LAST-MODIFIED:20220428T235614Z
UID:1731-1651104000-1651190399@spsbates.salemk12.org
SUMMARY:Bates School WALK A Thon
DESCRIPTION:
URL:https://spsbates.salemk12.org/event/bates-school-walk-a-thon/
CATEGORIES:Bates School
END:VEVENT
BEGIN:VEVENT
DTSTART;TZID=America/New_York:20220425T190000
DTEND;TZID=America/New_York:20220425T210000
DTSTAMP:20260422T183200
CREATED:20211214T160246Z
LAST-MODIFIED:20220425T185612Z
UID:1078-1650913200-1650920400@spsbates.salemk12.org
SUMMARY:School Committee Meeting
DESCRIPTION:
URL:https://spsbates.salemk12.org/event/school-committee-meeting-9/
CATEGORIES:District
END:VEVENT
BEGIN:VEVENT
DTSTART;VALUE=DATE:20220418
DTEND;VALUE=DATE:20220423
DTSTAMP:20260422T183200
CREATED:20211215T181025Z
LAST-MODIFIED:20220422T234014Z
UID:1121-1650240000-1650671999@spsbates.salemk12.org
SUMMARY:No School - April Break
DESCRIPTION:
URL:https://spsbates.salemk12.org/event/no-school-april-break/
CATEGORIES:Bates School
END:VEVENT
BEGIN:VEVENT
DTSTART;VALUE=DATE:20220415
DTEND;VALUE=DATE:20220416
DTSTAMP:20260422T183200
CREATED:20211215T181025Z
LAST-MODIFIED:20220415T232614Z
UID:1120-1649980800-1650067199@spsbates.salemk12.org
SUMMARY:No School - Good Friday
DESCRIPTION:
URL:https://spsbates.salemk12.org/event/no-school-good-friday/
CATEGORIES:Bates School
END:VEVENT
BEGIN:VEVENT
DTSTART;TZID=America/New_York:20220414T173000
DTEND;TZID=America/New_York:20220414T183000
DTSTAMP:20260422T183200
CREATED:20220201T201014Z
LAST-MODIFIED:20220413T232613Z
UID:1439-1649957400-1649961000@spsbates.salemk12.org
SUMMARY:Parent Equity Group
DESCRIPTION:
URL:https://spsbates.salemk12.org/event/parent-equity-group-26/
LOCATION:Bates Library
CATEGORIES:Bates School
END:VEVENT
BEGIN:VEVENT
DTSTART;VALUE=DATE:20220413
DTEND;VALUE=DATE:20220414
DTSTAMP:20260422T183200
CREATED:20220330T222613Z
LAST-MODIFIED:20220413T232613Z
UID:1730-1649808000-1649894399@spsbates.salemk12.org
SUMMARY:4th Grade ELA MCAS
DESCRIPTION:
URL:https://spsbates.salemk12.org/event/4th-grade-ela-mcas-2/
CATEGORIES:Bates School
END:VEVENT
BEGIN:VEVENT
DTSTART;TZID=America/New_York:20220412T180000
DTEND;TZID=America/New_York:20220412T190000
DTSTAMP:20260422T183200
CREATED:20211215T181025Z
LAST-MODIFIED:20220329T222614Z
UID:1119-1649786400-1649790000@spsbates.salemk12.org
SUMMARY:PTO Meeting
DESCRIPTION:
URL:https://spsbates.salemk12.org/event/pto-meeting-4/
LOCATION:Bates School Library
CATEGORIES:Bates School
END:VEVENT
BEGIN:VEVENT
DTSTART;VALUE=DATE:20220412
DTEND;VALUE=DATE:20220413
DTSTAMP:20260422T183200
CREATED:20220330T222613Z
LAST-MODIFIED:20220412T231013Z
UID:1728-1649721600-1649807999@spsbates.salemk12.org
SUMMARY:4th Grade ELA MCAS
DESCRIPTION:
URL:https://spsbates.salemk12.org/event/4th-grade-ela-mcas/
CATEGORIES:Bates School
END:VEVENT
BEGIN:VEVENT
DTSTART;TZID=America/New_York:20220411T180000
DTEND;TZID=America/New_York:20220411T190000
DTSTAMP:20260422T183200
CREATED:20220330T222613Z
LAST-MODIFIED:20220409T231014Z
UID:1726-1649700000-1649703600@spsbates.salemk12.org
SUMMARY:PTO Meeting
DESCRIPTION:
URL:https://spsbates.salemk12.org/event/pto-meeting-27/
CATEGORIES:Bates School
END:VEVENT
BEGIN:VEVENT
DTSTART;VALUE=DATE:20220411
DTEND;VALUE=DATE:20220412
DTSTAMP:20260422T183200
CREATED:20220330T222613Z
LAST-MODIFIED:20220411T231015Z
UID:1727-1649635200-1649721599@spsbates.salemk12.org
SUMMARY:Make-Up MCAS
DESCRIPTION:
URL:https://spsbates.salemk12.org/event/make-up-mcas-2/
CATEGORIES:Bates School
END:VEVENT
BEGIN:VEVENT
DTSTART;VALUE=DATE:20220411
DTEND;VALUE=DATE:20220412
DTSTAMP:20260422T183200
CREATED:20220330T222613Z
LAST-MODIFIED:20220411T231015Z
UID:1729-1649635200-1649721599@spsbates.salemk12.org
SUMMARY:5th Grade ELA MCAS
DESCRIPTION:
URL:https://spsbates.salemk12.org/event/5th-grade-ela-mcas-3/
CATEGORIES:Bates School
END:VEVENT
BEGIN:VEVENT
DTSTART;VALUE=DATE:20220408
DTEND;VALUE=DATE:20220409
DTSTAMP:20260422T183200
CREATED:20220330T222613Z
LAST-MODIFIED:20220408T230946Z
UID:1723-1649376000-1649462399@spsbates.salemk12.org
SUMMARY:5th Grade ELA MCAS
DESCRIPTION:
URL:https://spsbates.salemk12.org/event/5th-grade-ela-mcas/
CATEGORIES:Bates School
END:VEVENT
END:VCALENDAR