BEGIN:VCALENDAR
VERSION:2.0
PRODID:-//Bates School - ECPv6.15.18//NONSGML v1.0//EN
CALSCALE:GREGORIAN
METHOD:PUBLISH
X-WR-CALNAME:Bates School
X-ORIGINAL-URL:https://spsbates.salemk12.org
X-WR-CALDESC:Events for Bates School
REFRESH-INTERVAL;VALUE=DURATION:PT1H
X-Robots-Tag:noindex
X-PUBLISHED-TTL:PT1H
BEGIN:VTIMEZONE
TZID:America/New_York
BEGIN:DAYLIGHT
TZOFFSETFROM:-0500
TZOFFSETTO:-0400
TZNAME:EDT
DTSTART:20220313T070000
END:DAYLIGHT
BEGIN:STANDARD
TZOFFSETFROM:-0400
TZOFFSETTO:-0500
TZNAME:EST
DTSTART:20221106T060000
END:STANDARD
BEGIN:DAYLIGHT
TZOFFSETFROM:-0500
TZOFFSETTO:-0400
TZNAME:EDT
DTSTART:20230312T070000
END:DAYLIGHT
BEGIN:STANDARD
TZOFFSETFROM:-0400
TZOFFSETTO:-0500
TZNAME:EST
DTSTART:20231105T060000
END:STANDARD
BEGIN:DAYLIGHT
TZOFFSETFROM:-0500
TZOFFSETTO:-0400
TZNAME:EDT
DTSTART:20240310T070000
END:DAYLIGHT
BEGIN:STANDARD
TZOFFSETFROM:-0400
TZOFFSETTO:-0500
TZNAME:EST
DTSTART:20241103T060000
END:STANDARD
END:VTIMEZONE
BEGIN:VEVENT
DTSTART;TZID=America/New_York:20230829T163000
DTEND;TZID=America/New_York:20230829T180000
DTSTAMP:20260420T184513
CREATED:20230817T202439Z
LAST-MODIFIED:20230829T211011Z
UID:4240-1693326600-1693332000@spsbates.salemk12.org
SUMMARY:Join us for Popsicles with the Principal! Meet the Pre K & Kindergarten Staff
DESCRIPTION:
URL:https://spsbates.salemk12.org/event/join-us-for-popsicles-with-the-principal-meet-the-pre-k-kindergarten-staff/
LOCATION:At the Small Playground at Bates
CATEGORIES:Bates School
END:VEVENT
END:VCALENDAR