BEGIN:VCALENDAR
VERSION:2.0
PRODID:-//Bates School - ECPv6.15.18//NONSGML v1.0//EN
CALSCALE:GREGORIAN
METHOD:PUBLISH
X-ORIGINAL-URL:https://spsbates.salemk12.org
X-WR-CALDESC:Events for Bates School
REFRESH-INTERVAL;VALUE=DURATION:PT1H
X-Robots-Tag:noindex
X-PUBLISHED-TTL:PT1H
BEGIN:VTIMEZONE
TZID:America/New_York
BEGIN:DAYLIGHT
TZOFFSETFROM:-0500
TZOFFSETTO:-0400
TZNAME:EDT
DTSTART:20210314T070000
END:DAYLIGHT
BEGIN:STANDARD
TZOFFSETFROM:-0400
TZOFFSETTO:-0500
TZNAME:EST
DTSTART:20211107T060000
END:STANDARD
BEGIN:DAYLIGHT
TZOFFSETFROM:-0500
TZOFFSETTO:-0400
TZNAME:EDT
DTSTART:20220313T070000
END:DAYLIGHT
BEGIN:STANDARD
TZOFFSETFROM:-0400
TZOFFSETTO:-0500
TZNAME:EST
DTSTART:20221106T060000
END:STANDARD
BEGIN:DAYLIGHT
TZOFFSETFROM:-0500
TZOFFSETTO:-0400
TZNAME:EDT
DTSTART:20230312T070000
END:DAYLIGHT
BEGIN:STANDARD
TZOFFSETFROM:-0400
TZOFFSETTO:-0500
TZNAME:EST
DTSTART:20231105T060000
END:STANDARD
END:VTIMEZONE
BEGIN:VEVENT
DTSTART;TZID=America/New_York:20221208T173000
DTEND;TZID=America/New_York:20221208T183000
DTSTAMP:20260420T150033
CREATED:20220201T201038Z
LAST-MODIFIED:20220328T222636Z
UID:1447-1670520600-1670524200@spsbates.salemk12.org
SUMMARY:Parent Equity Group
DESCRIPTION:
URL:https://spsbates.salemk12.org/event/parent-equity-group-34/
LOCATION:Bates Library
CATEGORIES:Bates School
END:VEVENT
BEGIN:VEVENT
DTSTART;TZID=America/New_York:20221201T173000
DTEND;TZID=America/New_York:20221201T183000
DTSTAMP:20260420T150033
CREATED:20211215T181049Z
LAST-MODIFIED:20220131T195638Z
UID:1167-1669915800-1669919400@spsbates.salemk12.org
SUMMARY:Parent Equity Group
DESCRIPTION:
URL:https://spsbates.salemk12.org/event/parent-equity-group-12/
LOCATION:Bates Library
CATEGORIES:Bates School
END:VEVENT
BEGIN:VEVENT
DTSTART;TZID=America/New_York:20221110T173000
DTEND;TZID=America/New_York:20221110T183000
DTSTAMP:20260420T150033
CREATED:20220201T201038Z
LAST-MODIFIED:20220328T222636Z
UID:1446-1668101400-1668105000@spsbates.salemk12.org
SUMMARY:Parent Equity Group
DESCRIPTION:
URL:https://spsbates.salemk12.org/event/parent-equity-group-33/
LOCATION:Bates Library
CATEGORIES:Bates School
END:VEVENT
BEGIN:VEVENT
DTSTART;TZID=America/New_York:20221103T173000
DTEND;TZID=America/New_York:20221103T183000
DTSTAMP:20260420T150033
CREATED:20211215T181049Z
LAST-MODIFIED:20220131T195638Z
UID:1165-1667496600-1667500200@spsbates.salemk12.org
SUMMARY:Parent Equity Group
DESCRIPTION:
URL:https://spsbates.salemk12.org/event/parent-equity-group-11/
LOCATION:Bates Library
CATEGORIES:Bates School
END:VEVENT
BEGIN:VEVENT
DTSTART;TZID=America/New_York:20221013T173000
DTEND;TZID=America/New_York:20221013T183000
DTSTAMP:20260420T150033
CREATED:20220201T201038Z
LAST-MODIFIED:20220328T222624Z
UID:1445-1665682200-1665685800@spsbates.salemk12.org
SUMMARY:Parent Equity Group
DESCRIPTION:
URL:https://spsbates.salemk12.org/event/parent-equity-group-32/
LOCATION:Bates Library
CATEGORIES:Bates School
END:VEVENT
BEGIN:VEVENT
DTSTART;TZID=America/New_York:20221006T173000
DTEND;TZID=America/New_York:20221006T183000
DTSTAMP:20260420T150033
CREATED:20211215T181038Z
LAST-MODIFIED:20220131T195638Z
UID:1154-1665077400-1665081000@spsbates.salemk12.org
SUMMARY:Parent Equity Group
DESCRIPTION:
URL:https://spsbates.salemk12.org/event/parent-equity-group-10/
LOCATION:Bates Library
CATEGORIES:Bates School
END:VEVENT
BEGIN:VEVENT
DTSTART;TZID=America/New_York:20220908T173000
DTEND;TZID=America/New_York:20220908T183000
DTSTAMP:20260420T150033
CREATED:20220201T201038Z
LAST-MODIFIED:20220328T222624Z
UID:1444-1662658200-1662661800@spsbates.salemk12.org
SUMMARY:Parent Equity Group
DESCRIPTION:
URL:https://spsbates.salemk12.org/event/parent-equity-group-31/
LOCATION:Bates Library
CATEGORIES:Bates School
END:VEVENT
BEGIN:VEVENT
DTSTART;TZID=America/New_York:20220901T173000
DTEND;TZID=America/New_York:20220901T183000
DTSTAMP:20260420T150033
CREATED:20211215T181037Z
LAST-MODIFIED:20220131T195637Z
UID:1152-1662053400-1662057000@spsbates.salemk12.org
SUMMARY:Parent Equity Group
DESCRIPTION:
URL:https://spsbates.salemk12.org/event/parent-equity-group-9/
LOCATION:Bates Library
CATEGORIES:Bates School
END:VEVENT
BEGIN:VEVENT
DTSTART;TZID=America/New_York:20220811T173000
DTEND;TZID=America/New_York:20220811T183000
DTSTAMP:20260420T150033
CREATED:20220201T201038Z
LAST-MODIFIED:20220328T222624Z
UID:1443-1660239000-1660242600@spsbates.salemk12.org
SUMMARY:Parent Equity Group
DESCRIPTION:
URL:https://spsbates.salemk12.org/event/parent-equity-group-30/
LOCATION:Bates Library
CATEGORIES:Bates School
END:VEVENT
BEGIN:VEVENT
DTSTART;TZID=America/New_York:20220804T173000
DTEND;TZID=America/New_York:20220804T183000
DTSTAMP:20260420T150033
CREATED:20211215T181037Z
LAST-MODIFIED:20220131T195637Z
UID:1150-1659634200-1659637800@spsbates.salemk12.org
SUMMARY:Parent Equity Group
DESCRIPTION:
URL:https://spsbates.salemk12.org/event/parent-equity-group-8/
LOCATION:Bates Library
CATEGORIES:Bates School
END:VEVENT
BEGIN:VEVENT
DTSTART;TZID=America/New_York:20220714T173000
DTEND;TZID=America/New_York:20220714T183000
DTSTAMP:20260420T150033
CREATED:20220201T201026Z
LAST-MODIFIED:20220328T222624Z
UID:1442-1657819800-1657823400@spsbates.salemk12.org
SUMMARY:Parent Equity Group
DESCRIPTION:
URL:https://spsbates.salemk12.org/event/parent-equity-group-29/
LOCATION:Bates Library
CATEGORIES:Bates School
END:VEVENT
BEGIN:VEVENT
DTSTART;TZID=America/New_York:20220707T173000
DTEND;TZID=America/New_York:20220707T183000
DTSTAMP:20260420T150033
CREATED:20211215T181037Z
LAST-MODIFIED:20220131T195626Z
UID:1148-1657215000-1657218600@spsbates.salemk12.org
SUMMARY:Parent Equity Group
DESCRIPTION:
URL:https://spsbates.salemk12.org/event/parent-equity-group-7/
LOCATION:Bates Library
CATEGORIES:Bates School
END:VEVENT
BEGIN:VEVENT
DTSTART;TZID=America/New_York:20220609T170000
DTEND;TZID=America/New_York:20220609T180000
DTSTAMP:20260420T150033
CREATED:20220201T201026Z
LAST-MODIFIED:20220609T194015Z
UID:1441-1654794000-1654797600@spsbates.salemk12.org
SUMMARY:Parent Equity Group
DESCRIPTION:
URL:https://spsbates.salemk12.org/event/parent-equity-group-28/
LOCATION:Bates Library
CATEGORIES:Bates School
END:VEVENT
BEGIN:VEVENT
DTSTART;TZID=America/New_York:20220602T173000
DTEND;TZID=America/New_York:20220602T183000
DTSTAMP:20260420T150033
CREATED:20211215T181037Z
LAST-MODIFIED:20220131T195626Z
UID:1146-1654191000-1654194600@spsbates.salemk12.org
SUMMARY:Parent Equity Group
DESCRIPTION:
URL:https://spsbates.salemk12.org/event/parent-equity-group-6/
LOCATION:Bates Library
CATEGORIES:Bates School
END:VEVENT
BEGIN:VEVENT
DTSTART;TZID=America/New_York:20220505T173000
DTEND;TZID=America/New_York:20220505T183000
DTSTAMP:20260420T150033
CREATED:20211215T181025Z
LAST-MODIFIED:20220131T195626Z
UID:1122-1651771800-1651775400@spsbates.salemk12.org
SUMMARY:Parent Equity Group
DESCRIPTION:
URL:https://spsbates.salemk12.org/event/parent-equity-group-5/
LOCATION:Bates Library
CATEGORIES:Bates School
END:VEVENT
BEGIN:VEVENT
DTSTART;TZID=America/New_York:20220428T173000
DTEND;TZID=America/New_York:20220428T183000
DTSTAMP:20260420T150033
CREATED:20220201T201026Z
LAST-MODIFIED:20220427T235614Z
UID:1440-1651167000-1651170600@spsbates.salemk12.org
SUMMARY:Parent Equity Group
DESCRIPTION:
URL:https://spsbates.salemk12.org/event/parent-equity-group-27/
LOCATION:Bates Library
CATEGORIES:Bates School
END:VEVENT
BEGIN:VEVENT
DTSTART;TZID=America/New_York:20220414T173000
DTEND;TZID=America/New_York:20220414T183000
DTSTAMP:20260420T150033
CREATED:20220201T201014Z
LAST-MODIFIED:20220413T232613Z
UID:1439-1649957400-1649961000@spsbates.salemk12.org
SUMMARY:Parent Equity Group
DESCRIPTION:
URL:https://spsbates.salemk12.org/event/parent-equity-group-26/
LOCATION:Bates Library
CATEGORIES:Bates School
END:VEVENT
BEGIN:VEVENT
DTSTART;TZID=America/New_York:20220407T173000
DTEND;TZID=America/New_York:20220407T183000
DTSTAMP:20260420T150033
CREATED:20211215T181025Z
LAST-MODIFIED:20220131T195614Z
UID:1118-1649352600-1649356200@spsbates.salemk12.org
SUMMARY:Parent Equity Group
DESCRIPTION:
URL:https://spsbates.salemk12.org/event/parent-equity-group-4/
LOCATION:Bates Library
CATEGORIES:Bates School
END:VEVENT
BEGIN:VEVENT
DTSTART;TZID=America/New_York:20220310T173000
DTEND;TZID=America/New_York:20220310T183000
DTSTAMP:20260420T150033
CREATED:20220201T201014Z
LAST-MODIFIED:20220310T215616Z
UID:1438-1646933400-1646937000@spsbates.salemk12.org
SUMMARY:Parent Equity Group
DESCRIPTION:
URL:https://spsbates.salemk12.org/event/parent-equity-group-25/
LOCATION:Bates Library
CATEGORIES:Bates School
END:VEVENT
BEGIN:VEVENT
DTSTART;TZID=America/New_York:20220303T173000
DTEND;TZID=America/New_York:20220303T183000
DTSTAMP:20260420T150033
CREATED:20211215T181012Z
LAST-MODIFIED:20220131T195614Z
UID:1102-1646328600-1646332200@spsbates.salemk12.org
SUMMARY:Parent Equity Group
DESCRIPTION:
URL:https://spsbates.salemk12.org/event/parent-equity-group-3/
LOCATION:Bates Library
CATEGORIES:Bates School
END:VEVENT
BEGIN:VEVENT
DTSTART;TZID=America/New_York:20220210T173000
DTEND;TZID=America/New_York:20220210T183000
DTSTAMP:20260420T150033
CREATED:20220201T201014Z
LAST-MODIFIED:20220210T204022Z
UID:1437-1644514200-1644517800@spsbates.salemk12.org
SUMMARY:Parent Equity Group
DESCRIPTION:
URL:https://spsbates.salemk12.org/event/parent-equity-group-24/
LOCATION:Bates Library
CATEGORIES:Bates School
END:VEVENT
BEGIN:VEVENT
DTSTART;TZID=America/New_York:20220203T173000
DTEND;TZID=America/New_York:20220203T183000
DTSTAMP:20260420T150033
CREATED:20211215T181012Z
LAST-MODIFIED:20220131T195614Z
UID:1098-1643909400-1643913000@spsbates.salemk12.org
SUMMARY:Parent Equity Group
DESCRIPTION:
URL:https://spsbates.salemk12.org/event/parent-equity-group-2/
LOCATION:Bates Library
CATEGORIES:Bates School
END:VEVENT
BEGIN:VEVENT
DTSTART;TZID=America/New_York:20220106T173000
DTEND;TZID=America/New_York:20220106T183000
DTSTAMP:20260420T150033
CREATED:20211215T181012Z
LAST-MODIFIED:20220106T184015Z
UID:1093-1641490200-1641493800@spsbates.salemk12.org
SUMMARY:Parent Equity Group
DESCRIPTION:
URL:https://spsbates.salemk12.org/event/parent-equity-group/
LOCATION:Bates Library
CATEGORIES:Bates School
END:VEVENT
END:VCALENDAR