BEGIN:VCALENDAR
VERSION:2.0
PRODID:-//Bates School - ECPv6.15.18//NONSGML v1.0//EN
CALSCALE:GREGORIAN
METHOD:PUBLISH
X-ORIGINAL-URL:https://spsbates.salemk12.org
X-WR-CALDESC:Events for Bates School
REFRESH-INTERVAL;VALUE=DURATION:PT1H
X-Robots-Tag:noindex
X-PUBLISHED-TTL:PT1H
BEGIN:VTIMEZONE
TZID:America/New_York
BEGIN:DAYLIGHT
TZOFFSETFROM:-0500
TZOFFSETTO:-0400
TZNAME:EDT
DTSTART:20210314T070000
END:DAYLIGHT
BEGIN:STANDARD
TZOFFSETFROM:-0400
TZOFFSETTO:-0500
TZNAME:EST
DTSTART:20211107T060000
END:STANDARD
BEGIN:DAYLIGHT
TZOFFSETFROM:-0500
TZOFFSETTO:-0400
TZNAME:EDT
DTSTART:20220313T070000
END:DAYLIGHT
BEGIN:STANDARD
TZOFFSETFROM:-0400
TZOFFSETTO:-0500
TZNAME:EST
DTSTART:20221106T060000
END:STANDARD
BEGIN:DAYLIGHT
TZOFFSETFROM:-0500
TZOFFSETTO:-0400
TZNAME:EDT
DTSTART:20230312T070000
END:DAYLIGHT
BEGIN:STANDARD
TZOFFSETFROM:-0400
TZOFFSETTO:-0500
TZNAME:EST
DTSTART:20231105T060000
END:STANDARD
BEGIN:DAYLIGHT
TZOFFSETFROM:-0500
TZOFFSETTO:-0400
TZNAME:EDT
DTSTART:20240310T070000
END:DAYLIGHT
BEGIN:STANDARD
TZOFFSETFROM:-0400
TZOFFSETTO:-0500
TZNAME:EST
DTSTART:20241103T060000
END:STANDARD
BEGIN:DAYLIGHT
TZOFFSETFROM:-0500
TZOFFSETTO:-0400
TZNAME:EDT
DTSTART:20250309T070000
END:DAYLIGHT
BEGIN:STANDARD
TZOFFSETFROM:-0400
TZOFFSETTO:-0500
TZNAME:EST
DTSTART:20251102T060000
END:STANDARD
END:VTIMEZONE
BEGIN:VEVENT
DTSTART;TZID=America/New_York:20240109T180000
DTEND;TZID=America/New_York:20240109T190000
DTSTAMP:20260420T072055
CREATED:20220311T215703Z
LAST-MODIFIED:20220328T222701Z
UID:1631-1704823200-1704826800@spsbates.salemk12.org
SUMMARY:PTO Meeting
DESCRIPTION:
URL:https://spsbates.salemk12.org/event/pto-meeting-26/
LOCATION:Bates School Library
CATEGORIES:Bates School
END:VEVENT
BEGIN:VEVENT
DTSTART;TZID=America/New_York:20231212T180000
DTEND;TZID=America/New_York:20231212T190000
DTSTAMP:20260420T072055
CREATED:20220309T214103Z
LAST-MODIFIED:20220328T222701Z
UID:1606-1702404000-1702407600@spsbates.salemk12.org
SUMMARY:PTO Meeting
DESCRIPTION:
URL:https://spsbates.salemk12.org/event/pto-meeting-25/
LOCATION:Bates School Library
CATEGORIES:Bates School
END:VEVENT
BEGIN:VEVENT
DTSTART;TZID=America/New_York:20231114T180000
DTEND;TZID=America/New_York:20231114T190000
DTSTAMP:20260420T072055
CREATED:20220211T204103Z
LAST-MODIFIED:20220328T222701Z
UID:1518-1699984800-1699988400@spsbates.salemk12.org
SUMMARY:PTO Meeting
DESCRIPTION:
URL:https://spsbates.salemk12.org/event/pto-meeting-24/
LOCATION:Bates School Library
CATEGORIES:Bates School
END:VEVENT
BEGIN:VEVENT
DTSTART;TZID=America/New_York:20231010T180000
DTEND;TZID=America/New_York:20231010T190000
DTSTAMP:20260420T072055
CREATED:20220112T185703Z
LAST-MODIFIED:20220328T222701Z
UID:1368-1696960800-1696964400@spsbates.salemk12.org
SUMMARY:PTO Meeting
DESCRIPTION:
URL:https://spsbates.salemk12.org/event/pto-meeting-23/
LOCATION:Bates School Library
CATEGORIES:Bates School
END:VEVENT
BEGIN:VEVENT
DTSTART;TZID=America/New_York:20230808T180000
DTEND;TZID=America/New_York:20230808T190000
DTSTAMP:20260420T072055
CREATED:20211220T181645Z
LAST-MODIFIED:20220328T222649Z
UID:1260-1691517600-1691521200@spsbates.salemk12.org
SUMMARY:PTO Meeting
DESCRIPTION:
URL:https://spsbates.salemk12.org/event/pto-meeting-20/
LOCATION:Bates School Library
CATEGORIES:Bates School
END:VEVENT
BEGIN:VEVENT
DTSTART;TZID=America/New_York:20230711T180000
DTEND;TZID=America/New_York:20230711T190000
DTSTAMP:20260420T072055
CREATED:20211215T181103Z
LAST-MODIFIED:20220328T222649Z
UID:1182-1689098400-1689102000@spsbates.salemk12.org
SUMMARY:PTO Meeting
DESCRIPTION:
URL:https://spsbates.salemk12.org/event/pto-meeting-19/
LOCATION:Bates School Library
CATEGORIES:Bates School
END:VEVENT
BEGIN:VEVENT
DTSTART;TZID=America/New_York:20230613T180000
DTEND;TZID=America/New_York:20230613T190000
DTSTAMP:20260420T072055
CREATED:20211215T181103Z
LAST-MODIFIED:20220328T222649Z
UID:1180-1686679200-1686682800@spsbates.salemk12.org
SUMMARY:PTO Meeting
DESCRIPTION:
URL:https://spsbates.salemk12.org/event/pto-meeting-18/
LOCATION:Bates School Library
CATEGORIES:Bates School
END:VEVENT
BEGIN:VEVENT
DTSTART;TZID=America/New_York:20230509T180000
DTEND;TZID=America/New_York:20230509T190000
DTSTAMP:20260420T072055
CREATED:20211215T181102Z
LAST-MODIFIED:20220328T222649Z
UID:1178-1683655200-1683658800@spsbates.salemk12.org
SUMMARY:PTO Meeting
DESCRIPTION:
URL:https://spsbates.salemk12.org/event/pto-meeting-17/
LOCATION:Bates School Library
CATEGORIES:Bates School
END:VEVENT
BEGIN:VEVENT
DTSTART;TZID=America/New_York:20230411T180000
DTEND;TZID=America/New_York:20230411T190000
DTSTAMP:20260420T072055
CREATED:20211215T181102Z
LAST-MODIFIED:20220328T222636Z
UID:1176-1681236000-1681239600@spsbates.salemk12.org
SUMMARY:PTO Meeting
DESCRIPTION:
URL:https://spsbates.salemk12.org/event/pto-meeting-16/
LOCATION:Bates School Library
CATEGORIES:Bates School
END:VEVENT
BEGIN:VEVENT
DTSTART;TZID=America/New_York:20230314T180000
DTEND;TZID=America/New_York:20230314T190000
DTSTAMP:20260420T072055
CREATED:20211215T181102Z
LAST-MODIFIED:20220328T222636Z
UID:1174-1678816800-1678820400@spsbates.salemk12.org
SUMMARY:PTO Meeting
DESCRIPTION:
URL:https://spsbates.salemk12.org/event/pto-meeting-15/
LOCATION:Bates School Library
CATEGORIES:Bates School
END:VEVENT
BEGIN:VEVENT
DTSTART;TZID=America/New_York:20230215T180000
DTEND;TZID=America/New_York:20230215T190000
DTSTAMP:20260420T072055
CREATED:20220810T205615Z
LAST-MODIFIED:20230126T202523Z
UID:2252-1676484000-1676487600@spsbates.salemk12.org
SUMMARY:PTO Meeting
DESCRIPTION:
URL:https://spsbates.salemk12.org/event/pto-meeting-34/
LOCATION:Bates School Library
CATEGORIES:Bates School
END:VEVENT
BEGIN:VEVENT
DTSTART;TZID=America/New_York:20230214T180000
DTEND;TZID=America/New_York:20230214T190000
DTSTAMP:20260420T072055
CREATED:20211215T181050Z
LAST-MODIFIED:20220328T222636Z
UID:1172-1676397600-1676401200@spsbates.salemk12.org
SUMMARY:PTO Meeting
DESCRIPTION:
URL:https://spsbates.salemk12.org/event/pto-meeting-14/
LOCATION:Bates School Library
CATEGORIES:Bates School
END:VEVENT
BEGIN:VEVENT
DTSTART;TZID=America/New_York:20230110T180000
DTEND;TZID=America/New_York:20230110T190000
DTSTAMP:20260420T072055
CREATED:20211215T181050Z
LAST-MODIFIED:20220328T222636Z
UID:1170-1673373600-1673377200@spsbates.salemk12.org
SUMMARY:PTO Meeting
DESCRIPTION:
URL:https://spsbates.salemk12.org/event/pto-meeting-13/
LOCATION:Bates School Library
CATEGORIES:Bates School
END:VEVENT
BEGIN:VEVENT
DTSTART;TZID=America/New_York:20221213T180000
DTEND;TZID=America/New_York:20221213T190000
DTSTAMP:20260420T072055
CREATED:20211215T181050Z
LAST-MODIFIED:20220328T222636Z
UID:1168-1670954400-1670958000@spsbates.salemk12.org
SUMMARY:PTO Meeting
DESCRIPTION:
URL:https://spsbates.salemk12.org/event/pto-meeting-12/
LOCATION:Bates School Library
CATEGORIES:Bates School
END:VEVENT
BEGIN:VEVENT
DTSTART;TZID=America/New_York:20221108T180000
DTEND;TZID=America/New_York:20221108T190000
DTSTAMP:20260420T072055
CREATED:20211215T181049Z
LAST-MODIFIED:20220328T222624Z
UID:1166-1667930400-1667934000@spsbates.salemk12.org
SUMMARY:PTO Meeting
DESCRIPTION:
URL:https://spsbates.salemk12.org/event/pto-meeting-11/
LOCATION:Bates School Library
CATEGORIES:Bates School
END:VEVENT
BEGIN:VEVENT
DTSTART;TZID=America/New_York:20221011T180000
DTEND;TZID=America/New_York:20221011T190000
DTSTAMP:20260420T072055
CREATED:20211215T181049Z
LAST-MODIFIED:20220328T222624Z
UID:1162-1665511200-1665514800@spsbates.salemk12.org
SUMMARY:PTO Meeting
DESCRIPTION:
URL:https://spsbates.salemk12.org/event/pto-meeting-10/
LOCATION:Bates School Library
CATEGORIES:Bates School
END:VEVENT
BEGIN:VEVENT
DTSTART;TZID=America/New_York:20220913T180000
DTEND;TZID=America/New_York:20220913T190000
DTSTAMP:20260420T072055
CREATED:20211215T181037Z
LAST-MODIFIED:20220328T222624Z
UID:1153-1663092000-1663095600@spsbates.salemk12.org
SUMMARY:PTO Meeting
DESCRIPTION:
URL:https://spsbates.salemk12.org/event/pto-meeting-9/
LOCATION:Bates School Library
CATEGORIES:Bates School
END:VEVENT
BEGIN:VEVENT
DTSTART;TZID=America/New_York:20220809T180000
DTEND;TZID=America/New_York:20220809T190000
DTSTAMP:20260420T072055
CREATED:20211215T181037Z
LAST-MODIFIED:20220328T222624Z
UID:1151-1660068000-1660071600@spsbates.salemk12.org
SUMMARY:PTO Meeting
DESCRIPTION:
URL:https://spsbates.salemk12.org/event/pto-meeting-8/
LOCATION:Bates School Library
CATEGORIES:Bates School
END:VEVENT
BEGIN:VEVENT
DTSTART;TZID=America/New_York:20220712T180000
DTEND;TZID=America/New_York:20220712T190000
DTSTAMP:20260420T072055
CREATED:20211215T181037Z
LAST-MODIFIED:20220328T222624Z
UID:1149-1657648800-1657652400@spsbates.salemk12.org
SUMMARY:PTO Meeting
DESCRIPTION:
URL:https://spsbates.salemk12.org/event/pto-meeting-7/
LOCATION:Bates School Library
CATEGORIES:Bates School
END:VEVENT
BEGIN:VEVENT
DTSTART;TZID=America/New_York:20220614T180000
DTEND;TZID=America/New_York:20220614T190000
DTSTAMP:20260420T072055
CREATED:20211215T181037Z
LAST-MODIFIED:20220425T235637Z
UID:1147-1655229600-1655233200@spsbates.salemk12.org
SUMMARY:PTO Meeting
DESCRIPTION:
URL:https://spsbates.salemk12.org/event/pto-meeting-6/
LOCATION:Bates School Library
CATEGORIES:Bates School
END:VEVENT
BEGIN:VEVENT
DTSTART;TZID=America/New_York:20220509T180000
DTEND;TZID=America/New_York:20220509T190000
DTSTAMP:20260420T072055
CREATED:20211215T181025Z
LAST-MODIFIED:20220425T235613Z
UID:1123-1652119200-1652122800@spsbates.salemk12.org
SUMMARY:PTO Meeting
DESCRIPTION:
URL:https://spsbates.salemk12.org/event/pto-meeting-5/
LOCATION:Bates School Library
CATEGORIES:Bates School
END:VEVENT
BEGIN:VEVENT
DTSTART;TZID=America/New_York:20220412T180000
DTEND;TZID=America/New_York:20220412T190000
DTSTAMP:20260420T072055
CREATED:20211215T181025Z
LAST-MODIFIED:20220329T222614Z
UID:1119-1649786400-1649790000@spsbates.salemk12.org
SUMMARY:PTO Meeting
DESCRIPTION:
URL:https://spsbates.salemk12.org/event/pto-meeting-4/
LOCATION:Bates School Library
CATEGORIES:Bates School
END:VEVENT
BEGIN:VEVENT
DTSTART;TZID=America/New_York:20220308T180000
DTEND;TZID=America/New_York:20220308T190000
DTSTAMP:20260420T072055
CREATED:20211215T181012Z
LAST-MODIFIED:20220308T213957Z
UID:1103-1646762400-1646766000@spsbates.salemk12.org
SUMMARY:PTO Meeting
DESCRIPTION:
URL:https://spsbates.salemk12.org/event/pto-meeting-3/
LOCATION:Bates School Library
CATEGORIES:Bates School
END:VEVENT
BEGIN:VEVENT
DTSTART;TZID=America/New_York:20220208T180000
DTEND;TZID=America/New_York:20220208T190000
DTSTAMP:20260420T072055
CREATED:20211215T181012Z
LAST-MODIFIED:20220208T202615Z
UID:1100-1644343200-1644346800@spsbates.salemk12.org
SUMMARY:PTO Meeting
DESCRIPTION:
URL:https://spsbates.salemk12.org/event/pto-meeting-2/
LOCATION:Bates School Library
CATEGORIES:Bates School
END:VEVENT
BEGIN:VEVENT
DTSTART;TZID=America/New_York:20220111T180000
DTEND;TZID=America/New_York:20220111T190000
DTSTAMP:20260420T072055
CREATED:20211215T181012Z
LAST-MODIFIED:20220111T185615Z
UID:1095-1641924000-1641927600@spsbates.salemk12.org
SUMMARY:PTO Meeting
DESCRIPTION:
URL:https://spsbates.salemk12.org/event/pto-meeting/
LOCATION:Bates School Library
CATEGORIES:Bates School
END:VEVENT
END:VCALENDAR